BEGIN:VCALENDAR
VERSION:2.0
PRODID:icalendar-ruby
CALSCALE:GREGORIAN
METHOD:PUBLISH
BEGIN:VEVENT
DTSTAMP:20260423T193834Z
UID:34-256840@matsquilutheran.ca
DTSTART:20260524T173000Z
DTEND:20260524T183000Z
CLASS:PUBLIC
CREATED:20260423T094009
DESCRIPTION:
LAST-MODIFIED:20260423T094009
LOCATION:
SUMMARY:NO Service 
URL;VALUE=URI:https://www.matsquilutheran.ca/events/no-service--34/2026-05-
 24
END:VEVENT
END:VCALENDAR
